Workbook
Name aaaaa: #REF!
Name aaaaa: #REF!
Name Före: #REF!
Name Före: #REF!
Name Ingkomomssats: #REF!
Name Ingkomomssats: #REF!
Name Resultatbudget1: "Etikett 1"
Name s: #REF!
Name ss: #REF!
Name ss: #REF!
Name sön: [1]SCHEMA!#REF!
Name sön: [2]SCHEMA!#REF!
Name Utgkomomssats: #REF!
Name Utgkomomssats: #REF!

Sheet OM DOKUMENTET
A3: Den här mallen är framtagen av Sara Wennerström, Solhaga Stenugnsbageri, som material till föreläsningen ”Vad ska mathantverk kosta – och vad är det egentligen värt?” under SM i Mathantverk i Kristianstad den 8 oktober 2026.
A5: Mallen får laddas ner, kopieras och anpassas för användning i den egna verksamheten.
A7: Mallen får inte säljas, publiceras eller spridas vidare som eget material utan tillstånd.
A9: © Sara Wennerström / Solhaga Stenugnsbageri 2026.

Sheet RECEPT och RÅVARUKALKYL
A1: Morotskaka, botten
H2: Kilopris | I2: Kostnad grundrecept
B3: Grundrecept | C3: 2 | D3: 3 | E3: 3.6
A4: Farinsocker | B4: 300 | C4: =B4*2 -> 600 | D4: =B4*3 -> 900 | E4: =B4*$E$3 -> 1080 | H4: =RÅVARULISTA!D4 -> 19.4528 | I4: =H4*B4/1000 -> 5.83584
A5: Glutenfri mjölblandning | B5: 320 | C5: =B5*2 -> 640 | D5: =B5*3 -> 960 | E5: =B5*$E$3 -> 1152 | H5: =RÅVARULISTA!D5 -> 120.3104 | I5: =H5*B5/1000 -> 38.499328
A6: Finrivna morötter | B6: 320 | C6: =B6*2 -> 640 | D6: =B6*3 -> 960 | E6: =B6*$E$3 -> 1152 | H6: =RÅVARULISTA!D6 -> 10.45 | I6: =H6*B6/1000 -> 3.344
A7: Ägg | B7: 240 | C7: =B7*2 -> 480 | D7: =B7*3 -> 720 | E7: =B7*$E$3 -> 864 | H7: =RÅVARULISTA!D7 -> 67 | I7: =H7*B7/1000 -> 16.08
A8: Rapsolja | B8: 140 | C8: =B8*2 -> 280 | D8: =B8*3 -> 420 | E8: =B8*$E$3 -> 504 | H8: =RÅVARULISTA!D8 -> 23.471 | I8: =H8*B8/1000 -> 3.28594
A9: Kanel | B9: 14 | C9: =B9*2 -> 28 | D9: =B9*3 -> 42 | E9: =B9*$E$3 -> 50.4 | H9: =RÅVARULISTA!D9 -> 91 | I9: =H9*B9/1000 -> 1.274
A10: Kardemumma | B10: 10 | C10: =B10*2 -> 20 | D10: =B10*3 -> 30 | E10: =B10*$E$3 -> 36 | H10: =RÅVARULISTA!D10 -> 615 | I10: =H10*B10/1000 -> 6.15
A11: Ingefära | B11: 8 | C11: =B11*2 -> 16 | D11: =B11*3 -> 24 | E11: =B11*$E$3 -> 28.8 | H11: =RÅVARULISTA!D11 -> 180 | I11: =H11*B11/1000 -> 1.44
A12: Bakpulver | B12: 5 | C12: =B12*2 -> 10 | D12: =B12*3 -> 15 | E12: =B12*$E$3 -> 18 | H12: =RÅVARULISTA!D12 -> 67 | I12: =H12*B12/1000 -> 0.335
A13: Salt | B13: 4 | C13: =B13*2 -> 8 | D13: =B13*3 -> 12 | E13: =B13*$E$3 -> 14.4 | H13: =RÅVARULISTA!D13 -> 5.3984 | I13: =H13*B13/1000 -> 0.0215936
A14: Total vikt | B14: =SUM(B4:B13) -> 1361 | C14: =B14*2 -> 2722 | D14: =B14*3 -> 4083 | E14: =B14*$E$3 -> 4899.6
A15: Antal kakor | B15: =B14/$B$32 -> 22.683333 | C15: =C14/$B$32 -> 45.366667 | D15: =D14/$B$32 -> 68.05 | E15: =E14/$B$32 -> 81.66 | I15: =SUM(I4:I14) -> 76.265702 | J15: totalt
I16: =I15/B15 -> 3.3621911 | J16: kostnad botten per kaka
A18: Morotskaka, frosting
B20: Grundrecept | C20: 2 | D20: 3 | E20: 14
A21: Philadelphiaost | B21: 860 | C21: =B21*2 -> 1720 | D21: =B21*3 -> 2580 | E21: =B21*$E$20 -> 12040 | H21: 125 | I21: =H21*B21/1000 -> 107.5
A22: Smör | B22: 450 | C22: =B22*2 -> 900 | D22: =B22*3 -> 1350 | E22: =B22*$E$20 -> 6300 | H22: =RÅVARULISTA!D15 -> 99 | I22: =H22*B22/1000 -> 44.55
A23: Florsocker | B23: 450 | C23: =B23*2 -> 900 | D23: =B23*3 -> 1350 | E23: =B23*$E$20 -> 6300 | H23: =RÅVARULISTA!D16 -> 13.3252 | I23: =H23*B23/1000 -> 5.99634
A24: Vaniljsocker | B24: 50 | C24: =B24*2 -> 100 | D24: =B24*3 -> 150 | E24: =B24*$E$20 -> 700 | H24: =RÅVARULISTA!D17 -> 10.5 | I24: =H24*B24/1000 -> 0.525
A25: Citronzest, st | B25: 0.5 | C25: =B25*2 -> 1 | D25: =B25*3 -> 1.5 | E25: =B25*$E$20 -> 7 | H25: =RÅVARULISTA!D18 -> 66.666667 | I25: =H25*B25/1000 -> 0.033333333
A26: Total vikt | B26: =SUM(B21:B24) -> 1810 | C26: =SUM(C21:C25) -> 3621 | D26: =SUM(D21:D25) -> 5431.5 | E26: =SUM(E21:E25) -> 25347
A27: Antal kakor | B27: =B26/$B$36 -> 60.333333 | C27: =C26/$B$36 -> 120.7 | D27: =D26/$B$36 -> 181.05 | E27: =E26/$B$36 -> 844.9 | I27: =SUM(I21:I26) -> 158.60467 | J27: totalt
I28: =I27/B27 -> 2.6288067 | J28: kostnad frosting per kaka
A31: BASFAKTA | I31: =I16+I28 -> 5.9909978 | J31: total råvarukostnad per kaka
A32: En kaka väger, g | B32: 60 | I32: 0.2 | J32: mitt företags råvarukostnad i procent av omsättningen
A33: En kapselplåt ger st | B33: 80
A34: Mängd smet till en kapsel | B34: =B32*B33 -> 4800 | I34: =I31*(1/I32) -> 29.954989 | J34: nettopris | M34: Mitt pris | O34: Säkerhetsmarginal
I35: =I34*1.06 -> 31.752289 | J35: utpris ta med 6% moms | M35: 0 | N35: ta med | O35: =M35-I35 -> -31.752289
A36: Frosting till en kaka väger | B36: 30 | I36: =I34*1.12 -> 33.549588 | J36: utpris servering 12% moms | M36: 0 | N36: servering | O36: =M36-I36 -> -33.549588
A37: Frostig som behövs till en kapsel | B37: =B36*B33 -> 2400
A38: En burk färskost, g | B38: 1650
A39: Sommaren 2025 såldes st | B39: 800 | H39: Andra faktorer att väga in:
A40: Kilo färskost att köpa in | B40: =B21/60*800 -> 11466.667 | H40: Arbetstid, process, behov av utrustning, svinn.
A41: Antal burkar att köpa in | B41: =B40/B38 -> 6.9494949
H42: UPPGIFTER
H43: 1. Vad kostar kakan minst?
H44: 2. Vad är den värd?
...

Sheet RÅVARULISTA
A1: RÅVAROR
B3: Kilo/förp | C3: Pris/förp | D3: Pris/kg | E3: På lager, kg | F3: Lagervärde
A4: Farinsocker | B4: 25 | C4: 486.32 | D4: =C4/B4 -> 19.4528 | E4: 20 | F4: =E4*D4 -> 389.056
A5: Glutenfri mjölblandning | B5: 12.5 | C5: 1503.88 | D5: =C5/B5 -> 120.3104 | E5: 12.5 | F5: =E5*D5 -> 1503.88
A6: Finrivna morötter | B6: 1 | C6: 10.45 | D6: =C6/B6 -> 10.45 | E6: 1 | F6: =E6*D6 -> 10.45
A7: Ägg klass A EKO, 30x50 g | B7: 1.5 | C7: 100.5 | D7: =C7/B7 -> 67 | E7: 3 | F7: =E7*D7 -> 201
A8: Rapsolja | B8: 10 | C8: 234.71 | D8: =C8/B8 -> 23.471 | E8: 30 | F8: =E8*D8 -> 704.13
A9: Kanel malen | B9: 12.5 | C9: 1137.5 | D9: =C9/B9 -> 91 | E9: 26 | F9: =E9*D9 -> 2366
A10: Kardemummakärna grovmalen | B10: 7 | C10: 4305 | D10: =C10/B10 -> 615 | E10: 28 | F10: =E10*D10 -> 17220
A11: Ingefära mald | B11: 0.25 | C11: 45 | D11: =C11/B11 -> 180 | E11: 0.5 | F11: =E11*D11 -> 90
A12: Bakpulver | B12: 2 | C12: 134 | D12: =C12/B12 -> 67 | E12: 2 | F12: =E12*D12 -> 134
A13: Salt | B13: 25 | C13: 134.96 | D13: =C13/B13 -> 5.3984 | E13: 25 | F13: =E13*D13 -> 134.96
A14: Philadelphiaost | B14: 1.65 | C14: 206.25 | D14: =C14/B14 -> 125 | E14: 0 | F14: =E14*D14 -> 0
A15: Smör | B15: 1 | C15: 99 | D15: =C15/B15 -> 99 | F15: =E15*D15 -> 0
A16: Florsocker PS | B16: 25 | C16: 333.13 | D16: =C16/B16 -> 13.3252 | E16: 15 | F16: =E16*D16 -> 199.878
A17: Socker/Vaniljsocker | B17: 25 | C17: 262.5 | D17: =C17/B17 -> 10.5 | E17: 60 | F17: =E17*D17 -> 630
A18: Citron | B18: 0.15 | C18: 10 | D18: =C18/B18 -> 66.666667 | E18: 1 | F18: =E18*D18 -> 66.666667
A31: Totalt värde lager | F31: =SUM(F4:F30) -> 23650.021
A40: © Sara Wennerström / Solhaga Stenugnsbageri 2026. Fri att använda och anpassa i egen verksamhet. Får inte säljas eller publiceras som eget material.

Sheet PRISHÖJNINGAR
H2: procent ökning
H3: 1
A5: Kategori | B5: Produkt | C5: Antal 2025 | D5: Pris nu | E5: Moms | F5: intäkt/st | G5: intäkt/år | H5: Antal 2026 | I5: Nytt pris | J5: Ny intäkt | K5: Extra intäkt | L5: Ökning
B7: STORSÄLJARE
A8: Serv dryck | B8: Bryggkaffe | C8: 20000 | D8: 47 | E8: 1.12 | F8: =D8/E8 -> 41.964286 | G8: =F8*C8 -> 839285.71 | H8: =C8*$H$3 -> 20000 | I8: 47 | J8: =I8*H8/E8 -> 839285.71 | K8: =J8-G8 -> 0 | L8: =K8/G8 -> 0
A9: Serv dryck | B9: Espressokaffe | C9: 1400 | D9: 50 | E9: 1.12 | F9: =D9/E9 -> 44.642857 | G9: =F9*C9 -> 62500 | H9: =C9*$H$3 -> 1400 | I9: 50 | J9: =I9*H9/E9 -> 62500 | K9: =J9-G9 -> 0 | L9: =K9/G9 -> 0
A10: Serv mat | B10: Grillmacka Asige | C10: 5000 | D10: 139 | E10: 1.12 | F10: =D10/E10 -> 124.10714 | G10: =F10*C10 -> 620535.71 | H10: =C10*$H$3 -> 5000 | I10: 139 | J10: =I10*H10/E10 -> 620535.71 | K10: =J10-G10 -> 0 | L10: =K10/G10 -> 0
A11: TA mat | B11: Grillmacka Asige TA | C11: 200 | D11: 99 | E11: 1.06 | F11: =D11/E11 -> 93.396226 | G11: =F11*C11 -> 18679.245 | H11: =C11*$H$3 -> 200 | I11: 99 | J11: =I11*H11/E11 -> 18679.245 | K11: =J11-G11 -> 0 | L11: =K11/G11 -> 0
A12: Serv mat | B12: Bagarfrukost | C12: 2500 | D12: 249 | E12: 1.12 | F12: =D12/E12 -> 222.32143 | G12: =F12*C12 -> 555803.57 | H12: =C12*$H$3 -> 2500 | I12: 249 | J12: =I12*H12/E12 -> 555803.57 | K12: =J12-G12 -> 0 | L12: =K12/G12 -> 0
A13: Serv mat | B13: Kall smörgås Mostorp | C13: 2000 | D13: 149 | E13: 1.12 | F13: =D13/E13 -> 133.03571 | G13: =F13*C13 -> 266071.43 | H13: =C13*$H$3 -> 2000 | I13: 149 | J13: =I13*H13/E13 -> 266071.43 | K13: =J13-G13 -> 0 | L13: =K13/G13 -> 0
A14: TA mat | B14: Kall smörgås Mostorp | C14: 200 | D14: 149 | E14: 1.06 | F14: =D14/E14 -> 140.56604 | G14: =F14*C14 -> 28113.208 | H14: =C14*$H$3 -> 200 | I14: 149 | J14: =I14*H14/E14 -> 28113.208 | K14: =J14-G14 -> 0 | L14: =K14/G14 -> 0
A15: Serv mat | B15: Smörgås Susedalen | C15: 2500 | D15: 139 | E15: 1.12 | F15: =D15/E15 -> 124.10714 | G15: =F15*C15 -> 310267.86 | H15: =C15*$H$3 -> 2500 | I15: 139 | J15: =I15*H15/E15 -> 310267.86 | K15: =J15-G15 -> 0 | L15: =K15/G15 -> 0
A16: TA mat | B16: Smörgås Susedalen | C16: 200 | D16: 139 | E16: 1.06 | F16: =D16/E16 -> 131.13208 | G16: =F16*C16 -> 26226.415 | H16: =C16*$H$3 -> 200 | I16: 139 | J16: =I16*H16/E16 -> 26226.415 | K16: =J16-G16 -> 0 | L16: =K16/G16 -> 0
B18: BRÖD
A19: TA bröd | B19: Fralla | C19: 30000 | D19: 13 | E19: 1.06 | F19: =D19/E19 -> 12.264151 | G19: =F19*C19 -> 367924.53 | H19: =C19*$H$3 -> 30000 | I19: 13 | J19: =I19*H19/E19 -> 367924.53 | K19: =J19-G19 -> 0 | L19: =K19/G19 -> 0
A20: TA bröd | B20: Fyra frö | C20: 4000 | D20: 68 | E20: 1.06 | F20: =D20/E20 -> 64.150943 | G20: =F20*C20 -> 256603.77 | H20: =C20*$H$3 -> 4000 | I20: 68 | J20: =I20*H20/E20 -> 256603.77 | K20: =J20-G20 -> 0 | L20: =K20/G20 -> 0
A21: TA bröd | B21: Frukt och nöt | C21: 3000 | D21: 67 | E21: 1.06 | F21: =D21/E21 -> 63.207547 | G21: =F21*C21 -> 189622.64 | H21: =C21*$H$3 -> 3000 | I21: 67 | J21: =I21*H21/E21 -> 189622.64 | K21: =J21-G21 -> 0 | L21: =K21/G21 -> 0
A22: TA bröd | B22: Levain | C22: 4000 | D22: 58 | E22: 1.06 | F22: =D22/E22 -> 54.716981 | G22: =F22*C22 -> 218867.92 | H22: =C22*$H$3 -> 4000 | I22: 58 | J22: =I22*H22/E22 -> 218867.92 | K22: =J22-G22 -> 0 | L22: =K22/G22 -> 0
A23: TA bröd | B23: Bryggarbröd | C23: 3000 | D23: 65 | E23: 1.06 | F23: =D23/E23 -> 61.320755 | G23: =F23*C23 -> 183962.26 | H23: =C23*$H$3 -> 3000 | I23: 65 | J23: =I23*H23/E23 -> 183962.26 | K23: =J23-G23 -> 0 | L23: =K23/G23 -> 0
A24: TA bröd | B24: Dansk | C24: 2000 | D24: 63 | E24: 1.06 | F24: =D24/E24 -> 59.433962 | G24: =F24*C24 -> 118867.92 | H24: =C24*$H$3 -> 2000 | I24: 63 | J24: =I24*H24/E24 -> 118867.92 | K24: =J24-G24 -> 0 | L24: =K24/G24 -> 0
A25: TA bröd | B25: Baguette | C25: 1000 | D25: 48 | E25: 1.06 | F25: =D25/E25 -> 45.283019 | G25: =F25*C25 -> 45283.019 | H25: =C25*$H$3 -> 1000 | I25: 48 | J25: =I25*H25/E25 -> 45283.019 | K25: =J25-G25 -> 0 | L25: =K25/G25 -> 0
A26: TA bröd | B26: Knäcke | C26: 1000 | D26: 20 | E26: 1.06 | F26: =D26/E26 -> 18.867925 | G26: =F26*C26 -> 18867.925 | H26: =C26*$H$3 -> 1000 | I26: 20 | J26: =I26*H26/E26 -> 18867.925 | K26: =J26-G26 -> 0 | L26: =K26/G26 -> 0
B28: KONDIS
A29: Serv fika | B29: Kanelbulle | C29: 3000 | D29: 44 | E29: 1.12 | F29: =D29/E29 -> 39.285714 | G29: =F29*C29 -> 117857.14 | H29: =C29*$H$3 -> 3000 | I29: 44 | J29: =I29*H29/E29 -> 117857.14 | K29: =J29-G29 -> 0 | L29: =K29/G29 -> 0
A30: TA fika | B30: Kanelbulle | C30: 8000 | D30: 34 | E30: 1.06 | F30: =D30/E30 -> 32.075472 | G30: =F30*C30 -> 256603.77 | H30: =C30*$H$3 -> 8000 | I30: 34 | J30: =I30*H30/E30 -> 256603.77 | K30: =J30-G30 -> 0 | L30: =K30/G30 -> 0
A31: Serv fika | B31: Kardemummabulle | C31: 3000 | D31: 44 | E31: 1.12 | F31: =D31/E31 -> 39.285714 | G31: =F31*C31 -> 117857.14 | H31: =C31*$H$3 -> 3000 | I31: 44 | J31: =I31*H31/E31 -> 117857.14 | K31: =J31-G31 -> 0 | L31: =K31/G31 -> 0
A32: TA fika | B32: Kardemummabulle | C32: 8000 | D32: 34 | E32: 1.06 | F32: =D32/E32 -> 32.075472 | G32: =F32*C32 -> 256603.77 | H32: =C32*$H$3 -> 8000 | I32: 34 | J32: =I32*H32/E32 -> 256603.77 | K32: =J32-G32 -> 0 | L32: =K32/G32 -> 0
A33: Serv fika | B33: Dagens bulle | C33: 2000 | D33: 53 | E33: 1.12 | F33: =D33/E33 -> 47.321429 | G33: =F33*C33 -> 94642.857 | H33: =C33*$H$3 -> 2000 | I33: 53 | J33: =I33*H33/E33 -> 94642.857 | K33: =J33-G33 -> 0 | L33: =K33/G33 -> 0
A34: TA fika | B34: Dagens bulle | C34: 3000 | D34: 43 | E34: 1.06 | F34: =D34/E34 -> 40.566038 | G34: =F34*C34 -> 121698.11 | H34: =C34*$H$3 -> 3000 | I34: 43 | J34: =I34*H34/E34 -> 121698.11 | K34: =J34-G34 -> 0 | L34: =K34/G34 -> 0
A35: Serv fika | B35: Semla | C35: 3500 | D35: 66 | E35: 1.12 | F35: =D35/E35 -> 58.928571 | G35: =F35*C35 -> 206250 | H35: =C35*$H$3 -> 3500 | I35: 66 | J35: =I35*H35/E35 -> 206250 | K35: =J35-G35 -> 0 | L35: =K35/G35 -> 0
A36: TA fika | B36: Semla | C36: 700 | D36: 56 | E36: 1.06 | F36: =D36/E36 -> 52.830189 | G36: =F36*C36 -> 36981.132 | H36: =C36*$H$3 -> 700 | I36: 56 | J36: =I36*H36/E36 -> 36981.132 | K36: =J36-G36 -> 0 | L36: =K36/G36 -> 0
A37: Serv fika | B37: Unnasemla | C37: 150 | D37: 69 | E37: 1.12 | F37: =D37/E37 -> 61.607143 | G37: =F37*C37 -> 9241.0714 | H37: =C37*$H$3 -> 150 | I37: 69 | J37: =I37*H37/E37 -> 9241.0714 | K37: =J37-G37 -> 0 | L37: =K37/G37 -> 0
A38: TA fika | B38: Unnasemla | C38: 300 | D38: 59 | E38: 1.06 | F38: =D38/E38 -> 55.660377 | G38: =F38*C38 -> 16698.113 | H38: =C38*$H$3 -> 300 | I38: 59 | J38: =I38*H38/E38 -> 16698.113 | K38: =J38-G38 -> 0 | L38: =K38/G38 -> 0
A39: Serv fika | B39: Chokladboll | C39: 1000 | D39: 43 | E39: 1.12 | F39: =D39/E39 -> 38.392857 | G39: =F39*C39 -> 38392.857 | H39: =C39*$H$3 -> 1000 | I39: 43 | J39: =I39*H39/E39 -> 38392.857 | K39: =J39-G39 -> 0 | L39: =K39/G39 -> 0
A40: TA fika | B40: Chokladboll | C40: 1000 | D40: 33 | E40: 1.06 | F40: =D40/E40 -> 31.132075 | G40: =F40*C40 -> 31132.075 | H40: =C40*$H$3 -> 1000 | I40: 33 | J40: =I40*H40/E40 -> 31132.075 | K40: =J40-G40 -> 0 | L40: =K40/G40 -> 0
... A42: TA fika | B42: Chokladmuffin | C42: 1000 | D42: 35 | E42: 1.06 | F42: =D42/E42 -> 33.018868 | G42: =F42*C42 -> 33018.868 | H42: =C42*$H$3 -> 1000 | I42: 35 | J42: =I42*H42/E42 -> 33018.868 | K42: =J42-G42 -> 0 | L42: =K42/G42 -> 0
B44: BARNMENY
A45: Serv mat | B45: Barnfrukost | C45: 10 | D45: 99 | E45: 1.12 | F45: =D45/E45 -> 88.392857 | G45: =F45*C45 -> 883.92857 | H45: =C45*$H$3 -> 10 | I45: 99 | J45: =I45*H45/E45 -> 883.92857 | K45: =J45-G45 -> 0 | L45: =K45/G45 -> 0
A46: Serv mat | B46: Barnsmörgås | C46: 800 | D46: 30 | E46: 1.12 | F46: =D46/E46 -> 26.785714 | G46: =F46*C46 -> 21428.571 | H46: =C46*$H$3 -> 800 | I46: 30 | J46: =I46*H46/E46 -> 21428.571 | K46: =J46-G46 -> 0 | L46: =K46/G46 -> 0
A47: TA mat | B47: Barnsmörgås | C47: 80 | D47: 35 | E47: 1.06 | F47: =D47/E47 -> 33.018868 | G47: =F47*C47 -> 2641.5094 | H47: =C47*$H$3 -> 80 | I47: 35 | J47: =I47*H47/E47 -> 2641.5094 | K47: =J47-G47 -> 0 | L47: =K47/G47 -> 0
...
